BEGIN:VCALENDAR
VERSION:2.0
PRODID:-//eventon.com NONSGML v1.0//EN
CALSCALE:GREGORIAN
METHOD:PUBLISH
BEGIN:VEVENT
UID:69e5fc9f10fd1
DTSTAMP:20260420T121455
DTSTART:20260226T173000Z
DTEND:20260226T173000Z
TZID:Europe/Madrid
LOCATION:
SUMMARY:Nombramiento Portador de La Graná
DESCRIPTION: Este jueves 26 de febrero a las 20:30h\,  en el salón de plenos del Ayuntamiento\,  se celebrará el Acto de nombramiento oficial del portador de la Graná 2026. &nbsp;\nhttps://www.rafal.es/events/nombramiento-portador-de-la-grana/
URL:https://www.rafal.es/events/nombramiento-portador-de-la-grana/
END:VEVENT
END:VCALENDAR